BEGIN:VCALENDAR
VERSION:2.0
PRODID:-//hacksw/handcal//NONSGML v1.0//EN
BEGIN:VEVENT
SUMMARY:Fermeture du pas de tir 50m et Gong mardi 14/04
UID:169014f3-3a35-43eb-a097-f48dbcadb359
DTSTART:20260414T060000Z
DTEND:20260414T120000Z
LOCATION:Localisation   
CATEGORIES:Administratif
STATUS:
URL;VALUE=URI:https://www.arquebuse74.com/evenements/2026/04/14/fermeture-du-pas-de-tir-50m-et-gong-mardi-1404-2439845
END:VEVENT
END:VCALENDAR
