BEGIN:VCALENDAR
VERSION:2.0
PRODID:-//hacksw/handcal//NONSGML v1.0//EN
BEGIN:VEVENT
SUMMARY:Fermeture du 200m le 22/04 de 13h00 a 17h30
UID:eafc1470-cb41-46f1-9fb1-b2d2e790cdab
DTSTART:20260422T110000Z
DTEND:20260422T153000Z
LOCATION:Localisation   
CATEGORIES:Administratif
STATUS:
URL;VALUE=URI:https://www.arquebuse74.com/evenements/2026/04/22/fermeture-du-200m-le-2204-de-13h00-a-17h30-2443007
END:VEVENT
END:VCALENDAR
