BEGIN:VCALENDAR
VERSION:2.0
PRODID:-//hacksw/handcal//NONSGML v1.0//EN
BEGIN:VEVENT
SUMMARY:Le grand pas de tir 25 m sera ferme le 24 avril, de 8h00 a 20h00, en raison de travaux.
UID:8d8cc7b8-2d5c-4a68-ae18-81b79004c0a3
DTSTART:20260424T060000Z
DTEND:20260424T180000Z
LOCATION:Localisation   
CATEGORIES:Administratif
STATUS:
URL;VALUE=URI:https://www.arquebuse74.com/evenements/2026/04/24/le-grand-pas-de-tir-25-m-sera-ferme-le-24-avril-de-8h00-a-20h00-en-raison-de-travaux-2443008
END:VEVENT
END:VCALENDAR
