BEGIN:VCALENDAR
VERSION:2.0
PRODID:-//hacksw/handcal//NONSGML v1.0//EN
BEGIN:VEVENT
SUMMARY:Fermeture exceptionnelle des pas de tir 25 m, poudre noire et gong le samedi 25/04 (concours)
UID:7e47f4e0-9387-41a9-8a2f-f6b1a569768c
DTSTART:20260425T060000Z
DTEND:20260425T160000Z
LOCATION:Localisation   
CATEGORIES:Administratif
STATUS:
URL;VALUE=URI:https://www.arquebuse74.com/evenements/2026/04/25/fermeture-exceptionnelle-des-pas-de-tir-25-m-poudre-noire-et-gong-le-samedi-2504-concours-2444183
END:VEVENT
END:VCALENDAR
