BEGIN:VCALENDAR
VERSION:2.0
PRODID:-//hacksw/handcal//NONSGML v1.0//EN
BEGIN:VEVENT
SUMMARY:6-Pas de Tir 200m Reserve
UID:3801d3d5-4d4f-435f-ac9f-f6b590ce7ada
DTSTART:20260519T150000Z
DTEND:20260519T214500Z
LOCATION:Localisation   
CATEGORIES:Administratif
STATUS:
URL;VALUE=URI:https://www.arquebuse74.com/evenements/2026/05/19/6-pas-de-tir-200m-reserve-2441519
END:VEVENT
END:VCALENDAR
