BEGIN:VCALENDAR
VERSION:2.0
PRODID:-//hacksw/handcal//NONSGML v1.0//EN
BEGIN:VEVENT
SUMMARY:6-Pas de Tir 200m Reserve
UID:e1ddce4e-9a3d-4576-8fb6-be0b59db4806
DTSTART:20260520T150000Z
DTEND:20260520T214500Z
LOCATION:Localisation   
CATEGORIES:Administratif
STATUS:
URL;VALUE=URI:https://www.arquebuse74.com/evenements/2026/05/20/6-pas-de-tir-200m-reserve-2441518
END:VEVENT
END:VCALENDAR
