BEGIN:VCALENDAR
VERSION:2.0
PRODID:-//hacksw/handcal//NONSGML v1.0//EN
BEGIN:VEVENT
SUMMARY:Fermeture du 200m le 21/05 de 09h00 a 13h
UID:c4181612-9085-4947-b07a-f779354058a2
DTSTART:20260521T060000Z
DTEND:20260521T110000Z
LOCATION:Localisation   
CATEGORIES:Administratif
STATUS:
URL;VALUE=URI:https://www.arquebuse74.com/evenements/2026/05/21/fermeture-du-200m-le-2105-de-09h00-a-13h-2441562
END:VEVENT
END:VCALENDAR
