BEGIN:VCALENDAR
VERSION:2.0
PRODID:-//hacksw/handcal//NONSGML v1.0//EN
BEGIN:VEVENT
SUMMARY:Fermeture du 200m le 04/06 de 08h00 a 13h
UID:480762e8-26ae-4104-b866-8347703d1a87
DTSTART:20260604T060000Z
DTEND:20260604T110000Z
LOCATION:Localisation   
CATEGORIES:Administratif
STATUS:
URL;VALUE=URI:https://www.arquebuse74.com/evenements/2026/06/04/fermeture-du-200m-le-0406-de-08h00-a-13h-2441565
END:VEVENT
END:VCALENDAR
