BEGIN:VCALENDAR
VERSION:2.0
PRODID:-//hacksw/handcal//NONSGML v1.0//EN
BEGIN:VEVENT
SUMMARY:5-Pas de Tir 1 Reserve
UID:d4c3224d-0281-491e-854d-a3324c70baff
DTSTART:20260902T060000Z
DTEND:20260902T100000Z
LOCATION:Localisation   
CATEGORIES:Administratif
STATUS:
URL;VALUE=URI:https://www.arquebuse74.com/evenements/2026/09/02/5-pas-de-tir-1-reserve-2433483
END:VEVENT
END:VCALENDAR
