BEGIN:VCALENDAR
VERSION:2.0
PRODID:-//hacksw/handcal//NONSGML v1.0//EN
BEGIN:VEVENT
SUMMARY:5-Pas de Tir 1 Reserve
UID:b5b0aea3-dbc3-45f3-83f0-0563aa2cf5bc
DTSTART:20260908T060000Z
DTEND:20260908T100000Z
LOCATION:Localisation   
CATEGORIES:Administratif
STATUS:
URL;VALUE=URI:https://www.arquebuse74.com/evenements/2026/09/08/5-pas-de-tir-1-reserve-2433484
END:VEVENT
END:VCALENDAR
