BEGIN:VCALENDAR
VERSION:2.0
PRODID:-//hacksw/handcal//NONSGML v1.0//EN
BEGIN:VEVENT
SUMMARY:5-Pas de Tir 1 Reserve
UID:deede4f0-6b89-498d-8e8f-d1254551ab49
DTSTART:20260915T060000Z
DTEND:20260915T100000Z
LOCATION:Localisation   
CATEGORIES:Administratif
STATUS:
URL;VALUE=URI:https://www.arquebuse74.com/evenements/2026/09/15/5-pas-de-tir-1-reserve-2433481
END:VEVENT
END:VCALENDAR
