BEGIN:VCALENDAR
VERSION:2.0
PRODID:-//hacksw/handcal//NONSGML v1.0//EN
BEGIN:VEVENT
SUMMARY:5-Pas de Tir 1 Reserve
UID:916a1648-93b0-49b6-b29a-f1e965374525
DTSTART:20260916T060000Z
DTEND:20260916T100000Z
LOCATION:Localisation   
CATEGORIES:Administratif
STATUS:
URL;VALUE=URI:https://www.arquebuse74.com/evenements/2026/09/16/5-pas-de-tir-1-reserve-2433482
END:VEVENT
END:VCALENDAR
