BEGIN:VCALENDAR
VERSION:2.0
PRODID:-//hacksw/handcal//NONSGML v1.0//EN
BEGIN:VEVENT
SUMMARY:5-Pas de Tir 1 Reserve
UID:356162cc-b843-4b66-ba2c-224d7f792348
DTSTART:20260918T060000Z
DTEND:20260918T100000Z
LOCATION:Localisation   
CATEGORIES:Administratif
STATUS:
URL;VALUE=URI:https://www.arquebuse74.com/evenements/2026/09/18/5-pas-de-tir-1-reserve-2433486
END:VEVENT
END:VCALENDAR
