BEGIN:VCALENDAR
VERSION:2.0
PRODID:-//hacksw/handcal//NONSGML v1.0//EN
BEGIN:VEVENT
SUMMARY:5-Pas de Tir 1 Reserve
UID:708d9609-1ad4-4197-be83-cc1d2ad0e677
DTSTART:20260922T060000Z
DTEND:20260922T100000Z
LOCATION:Localisation   
CATEGORIES:Administratif
STATUS:
URL;VALUE=URI:https://www.arquebuse74.com/evenements/2026/09/22/5-pas-de-tir-1-reserve-2433485
END:VEVENT
END:VCALENDAR
