BEGIN:VCALENDAR
VERSION:2.0
PRODID:-//hacksw/handcal//NONSGML v1.0//EN
BEGIN:VEVENT
SUMMARY:5-Pas de Tir 1 Reserve
UID:89ae0ab6-65cb-4269-9817-7c07dbb2b477
DTSTART:20261001T060000Z
DTEND:20261001T100000Z
LOCATION:Localisation   
CATEGORIES:Administratif
STATUS:
URL;VALUE=URI:https://www.arquebuse74.com/evenements/2026/10/01/5-pas-de-tir-1-reserve-2433491
END:VEVENT
END:VCALENDAR
